BEGIN:VCALENDAR
VERSION:2.0
PRODID:-//Iowa Pipe Trades and HVAC Training Institute - ECPv6.15.20//NONSGML v1.0//EN
CALSCALE:GREGORIAN
METHOD:PUBLISH
X-WR-CALNAME:Iowa Pipe Trades and HVAC Training Institute
X-ORIGINAL-URL:https://iowapipetradesandhvactraininginstitute.org
X-WR-CALDESC:Events for Iowa Pipe Trades and HVAC Training Institute
REFRESH-INTERVAL;VALUE=DURATION:PT1H
X-Robots-Tag:noindex
X-PUBLISHED-TTL:PT1H
BEGIN:VTIMEZONE
TZID:America/Chicago
BEGIN:DAYLIGHT
TZOFFSETFROM:-0600
TZOFFSETTO:-0500
TZNAME:CDT
DTSTART:20230312T080000
END:DAYLIGHT
BEGIN:STANDARD
TZOFFSETFROM:-0500
TZOFFSETTO:-0600
TZNAME:CST
DTSTART:20231105T070000
END:STANDARD
BEGIN:DAYLIGHT
TZOFFSETFROM:-0600
TZOFFSETTO:-0500
TZNAME:CDT
DTSTART:20240310T080000
END:DAYLIGHT
BEGIN:STANDARD
TZOFFSETFROM:-0500
TZOFFSETTO:-0600
TZNAME:CST
DTSTART:20241103T070000
END:STANDARD
BEGIN:DAYLIGHT
TZOFFSETFROM:-0600
TZOFFSETTO:-0500
TZNAME:CDT
DTSTART:20250309T080000
END:DAYLIGHT
BEGIN:STANDARD
TZOFFSETFROM:-0500
TZOFFSETTO:-0600
TZNAME:CST
DTSTART:20251102T070000
END:STANDARD
BEGIN:DAYLIGHT
TZOFFSETFROM:-0600
TZOFFSETTO:-0500
TZNAME:CDT
DTSTART:20260308T080000
END:DAYLIGHT
BEGIN:STANDARD
TZOFFSETFROM:-0500
TZOFFSETTO:-0600
TZNAME:CST
DTSTART:20261101T070000
END:STANDARD
END:VTIMEZONE
BEGIN:VEVENT
DTSTART;TZID=America/Chicago:20250219T170000
DTEND;TZID=America/Chicago:20250219T210000
DTSTAMP:20260422T084316
CREATED:20250206T000707Z
LAST-MODIFIED:20250219T104929Z
UID:10000119-1739984400-1739998800@iowapipetradesandhvactraininginstitute.org
SUMMARY:CPR/First Aid (Des Moines)
DESCRIPTION:Register for this class\n\nUA Card Number (include two zeros at the front of your card#)*\n				 \n				\n				 \nLast Name (lowercase)*\n				 \n				\n				 \n \n				function class_registration(){\n					//var login_type       = jQuery(“select[name=login-type]”).val();\n					var login_type = “ua-card”;\n					var card_number	= jQuery(“input[name=card_number]”).val();\n					var ua_password = jQuery(“input[name=ua_password]”).val();\n					var id_class = “”; \n					if(login_type==”” || card_number==”” || ua_password==””){\n						alert(“Please fill out all required fields before registering!”);\n					}\n					else{\n						jQuery.ajax({\n						type: “POST”\,\n						url: “/wp-content/themes/ae-child-theme/ajax.php”\,\n						data: {action:”class_registration”\, login_type:login_type\, card_number:card_number\, ua_password:ua_password\, id_class:id_class}\,\n						success: function(data){\n							if(data === “1”){\n								alert(“Thank you – you have successfully registered for .”);\n								jQuery(“input[name=card_number]”).val(“”);\n								jQuery(“input[name=ua_password]”).val(“”);\n							}\n							else{\n								alert(“An error occurred – please make sure you are using your UA card # and password.nnIf problems persist\, please contact training director Jeremy Lindquist at 515-244-1346.”);\n							}\n						}\n						});\n					}\n				}
URL:https://iowapipetradesandhvactraininginstitute.org/event/cpr-first-aid-des-moines-3/
LOCATION:Local 33 Union Hall\, 2501 Bell Avenue\, Des Moines\, IA\, 50321\, United States
CATEGORIES:Apprenticeship School Rotation,CEU Classes
GEO:41.562808;-93.654415
X-APPLE-STRUCTURED-LOCATION;VALUE=URI;X-ADDRESS=Local 33 Union Hall 2501 Bell Avenue Des Moines IA 50321 United States;X-APPLE-RADIUS=500;X-TITLE=2501 Bell Avenue:geo:-93.654415,41.562808
END:VEVENT
BEGIN:VEVENT
DTSTART;TZID=America/Chicago:20250218T170000
DTEND;TZID=America/Chicago:20250218T210000
DTSTAMP:20260422T084316
CREATED:20250206T000707Z
LAST-MODIFIED:20250218T103532Z
UID:10000117-1739898000-1739912400@iowapipetradesandhvactraininginstitute.org
SUMMARY:5 Hr Backflow Update
DESCRIPTION:Register for this class\n\nUA Card Number (include two zeros at the front of your card#)*\n				 \n				\n				 \nLast Name (lowercase)*\n				 \n				\n				 \n \n				function class_registration(){\n					//var login_type       = jQuery(“select[name=login-type]”).val();\n					var login_type = “ua-card”;\n					var card_number	= jQuery(“input[name=card_number]”).val();\n					var ua_password = jQuery(“input[name=ua_password]”).val();\n					var id_class = “”; \n					if(login_type==”” || card_number==”” || ua_password==””){\n						alert(“Please fill out all required fields before registering!”);\n					}\n					else{\n						jQuery.ajax({\n						type: “POST”\,\n						url: “/wp-content/themes/ae-child-theme/ajax.php”\,\n						data: {action:”class_registration”\, login_type:login_type\, card_number:card_number\, ua_password:ua_password\, id_class:id_class}\,\n						success: function(data){\n							if(data === “1”){\n								alert(“Thank you – you have successfully registered for .”);\n								jQuery(“input[name=card_number]”).val(“”);\n								jQuery(“input[name=ua_password]”).val(“”);\n							}\n							else{\n								alert(“An error occurred – please make sure you are using your UA card # and password.nnIf problems persist\, please contact training director Jeremy Lindquist at 515-244-1346.”);\n							}\n						}\n						});\n					}\n				}
URL:https://iowapipetradesandhvactraininginstitute.org/event/5-hr-backflow-update-5/
LOCATION:Local 33 Union Hall\, 2501 Bell Avenue\, Des Moines\, IA\, 50321\, United States
CATEGORIES:Apprenticeship School Rotation,CEU Classes
GEO:41.562808;-93.654415
X-APPLE-STRUCTURED-LOCATION;VALUE=URI;X-ADDRESS=Local 33 Union Hall 2501 Bell Avenue Des Moines IA 50321 United States;X-APPLE-RADIUS=500;X-TITLE=2501 Bell Avenue:geo:-93.654415,41.562808
END:VEVENT
BEGIN:VEVENT
DTSTART;VALUE=DATE:20250218
DTEND;VALUE=DATE:20250222
DTSTAMP:20260422T084316
CREATED:20250206T000707Z
LAST-MODIFIED:20250218T103532Z
UID:10000116-1739836800-1740182399@iowapipetradesandhvactraininginstitute.org
SUMMARY:Apprenticeship School Rotation – Group 7
DESCRIPTION:
URL:https://iowapipetradesandhvactraininginstitute.org/event/apprenticeship-school-rotation-group-7-7/
LOCATION:Local 33 Union Hall\, 2501 Bell Avenue\, Des Moines\, IA\, 50321\, United States
CATEGORIES:Apprenticeship School Rotation,CEU Classes
GEO:41.562808;-93.654415
X-APPLE-STRUCTURED-LOCATION;VALUE=URI;X-ADDRESS=Local 33 Union Hall 2501 Bell Avenue Des Moines IA 50321 United States;X-APPLE-RADIUS=500;X-TITLE=2501 Bell Avenue:geo:-93.654415,41.562808
END:VEVENT
BEGIN:VEVENT
DTSTART;VALUE=DATE:20250211
DTEND;VALUE=DATE:20250215
DTSTAMP:20260422T084316
CREATED:20250206T000707Z
LAST-MODIFIED:20250211T065014Z
UID:10000115-1739232000-1739577599@iowapipetradesandhvactraininginstitute.org
SUMMARY:Apprenticeship School Rotation – Group 6
DESCRIPTION:
URL:https://iowapipetradesandhvactraininginstitute.org/event/apprenticeship-school-rotation-group-6-8/
LOCATION:Local 33 Union Hall\, 2501 Bell Avenue\, Des Moines\, IA\, 50321\, United States
CATEGORIES:Apprenticeship School Rotation,CEU Classes
GEO:41.562808;-93.654415
X-APPLE-STRUCTURED-LOCATION;VALUE=URI;X-ADDRESS=Local 33 Union Hall 2501 Bell Avenue Des Moines IA 50321 United States;X-APPLE-RADIUS=500;X-TITLE=2501 Bell Avenue:geo:-93.654415,41.562808
END:VEVENT
BEGIN:VEVENT
DTSTART;TZID=America/Chicago:20250210T120000
DTEND;TZID=America/Chicago:20250210T130000
DTSTAMP:20260422T084316
CREATED:20250206T000707Z
LAST-MODIFIED:20250210T065049Z
UID:10000114-1739188800-1739192400@iowapipetradesandhvactraininginstitute.org
SUMMARY:Retiree Luncheon
DESCRIPTION:
URL:https://iowapipetradesandhvactraininginstitute.org/event/retiree-luncheon-9/
LOCATION:Local 33 Union Hall\, 2501 Bell Avenue\, Des Moines\, IA\, 50321\, United States
CATEGORIES:Apprenticeship School Rotation,CEU Classes,Retiree Luncheon
GEO:41.562808;-93.654415
X-APPLE-STRUCTURED-LOCATION;VALUE=URI;X-ADDRESS=Local 33 Union Hall 2501 Bell Avenue Des Moines IA 50321 United States;X-APPLE-RADIUS=500;X-TITLE=2501 Bell Avenue:geo:-93.654415,41.562808
END:VEVENT
BEGIN:VEVENT
DTSTART;VALUE=DATE:20250107
DTEND;VALUE=DATE:20250111
DTSTAMP:20260422T084316
CREATED:20241001T221559Z
LAST-MODIFIED:20241001T221559Z
UID:10000113-1736208000-1736553599@iowapipetradesandhvactraininginstitute.org
SUMMARY:Apprenticeship School Rotation - Group 1
DESCRIPTION:
URL:https://iowapipetradesandhvactraininginstitute.org/event/apprenticeship-school-rotation-group-1-6/
LOCATION:Local 33 Union Hall\, 2501 Bell Avenue\, Des Moines\, IA\, 50321\, United States
CATEGORIES:Apprenticeship School Rotation
GEO:41.562808;-93.654415
X-APPLE-STRUCTURED-LOCATION;VALUE=URI;X-ADDRESS=Local 33 Union Hall 2501 Bell Avenue Des Moines IA 50321 United States;X-APPLE-RADIUS=500;X-TITLE=2501 Bell Avenue:geo:-93.654415,41.562808
END:VEVENT
BEGIN:VEVENT
DTSTART;TZID=America/Chicago:20250101T183000
DTEND;TZID=America/Chicago:20250101T193000
DTSTAMP:20260422T084316
CREATED:20241001T221558Z
LAST-MODIFIED:20241001T221558Z
UID:10000112-1735756200-1735759800@iowapipetradesandhvactraininginstitute.org
SUMMARY:Union Meeting
DESCRIPTION:
URL:https://iowapipetradesandhvactraininginstitute.org/event/union-meeting-9/
LOCATION:Local 33 Union Hall\, 2501 Bell Avenue\, Des Moines\, IA\, 50321\, United States
CATEGORIES:Union Meetings
GEO:41.562808;-93.654415
X-APPLE-STRUCTURED-LOCATION;VALUE=URI;X-ADDRESS=Local 33 Union Hall 2501 Bell Avenue Des Moines IA 50321 United States;X-APPLE-RADIUS=500;X-TITLE=2501 Bell Avenue:geo:-93.654415,41.562808
END:VEVENT
BEGIN:VEVENT
DTSTART;TZID=America/Chicago:20241219T170000
DTEND;TZID=America/Chicago:20241219T210000
DTSTAMP:20260422T084316
CREATED:20241001T221558Z
LAST-MODIFIED:20241001T221558Z
UID:10000111-1734627600-1734642000@iowapipetradesandhvactraininginstitute.org
SUMMARY:5 Hr Backflow Update
DESCRIPTION:Register for this class \n				UA Card Number (include two zeros at the front of your card#)* \n				Last Name (lowercase)*
URL:https://iowapipetradesandhvactraininginstitute.org/event/5-hr-backflow-update-4/
LOCATION:Local 33 Union Hall\, 2501 Bell Avenue\, Des Moines\, IA\, 50321\, United States
CATEGORIES:CEU Classes
GEO:41.562808;-93.654415
X-APPLE-STRUCTURED-LOCATION;VALUE=URI;X-ADDRESS=Local 33 Union Hall 2501 Bell Avenue Des Moines IA 50321 United States;X-APPLE-RADIUS=500;X-TITLE=2501 Bell Avenue:geo:-93.654415,41.562808
END:VEVENT
BEGIN:VEVENT
DTSTART;TZID=America/Chicago:20241218T170000
DTEND;TZID=America/Chicago:20241218T210000
DTSTAMP:20260422T084316
CREATED:20241001T221558Z
LAST-MODIFIED:20241001T221558Z
UID:10000109-1734541200-1734555600@iowapipetradesandhvactraininginstitute.org
SUMMARY:Weld Certification
DESCRIPTION:Register for this class \n				UA Card Number (include two zeros at the front of your card#)* \n				Last Name (lowercase)*
URL:https://iowapipetradesandhvactraininginstitute.org/event/weld-certification-5/
LOCATION:Local 33 Union Hall\, 2501 Bell Avenue\, Des Moines\, IA\, 50321\, United States
CATEGORIES:CEU Classes
GEO:41.562808;-93.654415
X-APPLE-STRUCTURED-LOCATION;VALUE=URI;X-ADDRESS=Local 33 Union Hall 2501 Bell Avenue Des Moines IA 50321 United States;X-APPLE-RADIUS=500;X-TITLE=2501 Bell Avenue:geo:-93.654415,41.562808
END:VEVENT
BEGIN:VEVENT
DTSTART;TZID=America/Chicago:20241218T170000
DTEND;TZID=America/Chicago:20241218T210000
DTSTAMP:20260422T084316
CREATED:20241001T221558Z
LAST-MODIFIED:20241001T221558Z
UID:10000110-1734541200-1734555600@iowapipetradesandhvactraininginstitute.org
SUMMARY:Med Gas Update
DESCRIPTION:Register for this class \n				UA Card Number (include two zeros at the front of your card#)* \n				Last Name (lowercase)*
URL:https://iowapipetradesandhvactraininginstitute.org/event/med-gas-update-5/
LOCATION:Local 33 Union Hall\, 2501 Bell Avenue\, Des Moines\, IA\, 50321\, United States
CATEGORIES:CEU Classes
GEO:41.562808;-93.654415
X-APPLE-STRUCTURED-LOCATION;VALUE=URI;X-ADDRESS=Local 33 Union Hall 2501 Bell Avenue Des Moines IA 50321 United States;X-APPLE-RADIUS=500;X-TITLE=2501 Bell Avenue:geo:-93.654415,41.562808
END:VEVENT
BEGIN:VEVENT
DTSTART;TZID=America/Chicago:20241217T170000
DTEND;TZID=America/Chicago:20241217T210000
DTSTAMP:20260422T084316
CREATED:20241001T221558Z
LAST-MODIFIED:20241001T221558Z
UID:10000108-1734454800-1734469200@iowapipetradesandhvactraininginstitute.org
SUMMARY:Low GWP Refrigeration Update
DESCRIPTION:Register for this class \n				UA Card Number (include two zeros at the front of your card#)* \n				Last Name (lowercase)*
URL:https://iowapipetradesandhvactraininginstitute.org/event/low-gwp-refrigeration-update-2/
LOCATION:Local 33 Union Hall\, 2501 Bell Avenue\, Des Moines\, IA\, 50321\, United States
CATEGORIES:CEU Classes
GEO:41.562808;-93.654415
X-APPLE-STRUCTURED-LOCATION;VALUE=URI;X-ADDRESS=Local 33 Union Hall 2501 Bell Avenue Des Moines IA 50321 United States;X-APPLE-RADIUS=500;X-TITLE=2501 Bell Avenue:geo:-93.654415,41.562808
END:VEVENT
BEGIN:VEVENT
DTSTART;VALUE=DATE:20241217
DTEND;VALUE=DATE:20241221
DTSTAMP:20260422T084316
CREATED:20241001T221558Z
LAST-MODIFIED:20241001T221558Z
UID:10000107-1734393600-1734739199@iowapipetradesandhvactraininginstitute.org
SUMMARY:Apprenticeship School Rotation - Group 7
DESCRIPTION:
URL:https://iowapipetradesandhvactraininginstitute.org/event/apprenticeship-school-rotation-group-7-6/
LOCATION:Local 33 Union Hall\, 2501 Bell Avenue\, Des Moines\, IA\, 50321\, United States
CATEGORIES:Apprenticeship School Rotation
GEO:41.562808;-93.654415
X-APPLE-STRUCTURED-LOCATION;VALUE=URI;X-ADDRESS=Local 33 Union Hall 2501 Bell Avenue Des Moines IA 50321 United States;X-APPLE-RADIUS=500;X-TITLE=2501 Bell Avenue:geo:-93.654415,41.562808
END:VEVENT
BEGIN:VEVENT
DTSTART;VALUE=DATE:20241210
DTEND;VALUE=DATE:20241214
DTSTAMP:20260422T084316
CREATED:20241001T221558Z
LAST-MODIFIED:20241001T221558Z
UID:10000106-1733788800-1734134399@iowapipetradesandhvactraininginstitute.org
SUMMARY:Apprenticeship School Rotation - Group 6
DESCRIPTION:
URL:https://iowapipetradesandhvactraininginstitute.org/event/apprenticeship-school-rotation-group-6-7/
LOCATION:Local 33 Union Hall\, 2501 Bell Avenue\, Des Moines\, IA\, 50321\, United States
CATEGORIES:Apprenticeship School Rotation
GEO:41.562808;-93.654415
X-APPLE-STRUCTURED-LOCATION;VALUE=URI;X-ADDRESS=Local 33 Union Hall 2501 Bell Avenue Des Moines IA 50321 United States;X-APPLE-RADIUS=500;X-TITLE=2501 Bell Avenue:geo:-93.654415,41.562808
END:VEVENT
BEGIN:VEVENT
DTSTART;TZID=America/Chicago:20241204T183000
DTEND;TZID=America/Chicago:20241204T193000
DTSTAMP:20260422T084316
CREATED:20241001T221557Z
LAST-MODIFIED:20241001T221557Z
UID:10000105-1733337000-1733340600@iowapipetradesandhvactraininginstitute.org
SUMMARY:Union Meeting
DESCRIPTION:
URL:https://iowapipetradesandhvactraininginstitute.org/event/union-meeting-8/
LOCATION:Local 33 Union Hall\, 2501 Bell Avenue\, Des Moines\, IA\, 50321\, United States
CATEGORIES:Union Meetings
GEO:41.562808;-93.654415
X-APPLE-STRUCTURED-LOCATION;VALUE=URI;X-ADDRESS=Local 33 Union Hall 2501 Bell Avenue Des Moines IA 50321 United States;X-APPLE-RADIUS=500;X-TITLE=2501 Bell Avenue:geo:-93.654415,41.562808
END:VEVENT
BEGIN:VEVENT
DTSTART;VALUE=DATE:20241203
DTEND;VALUE=DATE:20241207
DTSTAMP:20260422T084316
CREATED:20241001T221557Z
LAST-MODIFIED:20241001T221557Z
UID:10000104-1733184000-1733529599@iowapipetradesandhvactraininginstitute.org
SUMMARY:Apprenticeship School Rotation - Group 5
DESCRIPTION:
URL:https://iowapipetradesandhvactraininginstitute.org/event/apprenticeship-school-rotation-group-5-7/
LOCATION:Local 33 Union Hall\, 2501 Bell Avenue\, Des Moines\, IA\, 50321\, United States
CATEGORIES:Apprenticeship School Rotation
GEO:41.562808;-93.654415
X-APPLE-STRUCTURED-LOCATION;VALUE=URI;X-ADDRESS=Local 33 Union Hall 2501 Bell Avenue Des Moines IA 50321 United States;X-APPLE-RADIUS=500;X-TITLE=2501 Bell Avenue:geo:-93.654415,41.562808
END:VEVENT
BEGIN:VEVENT
DTSTART;TZID=America/Chicago:20241126T170000
DTEND;TZID=America/Chicago:20241126T210000
DTSTAMP:20260422T084316
CREATED:20241001T221557Z
LAST-MODIFIED:20241001T221557Z
UID:10000103-1732640400-1732654800@iowapipetradesandhvactraininginstitute.org
SUMMARY:Tube Bending
DESCRIPTION:Register for this class \n				UA Card Number (include two zeros at the front of your card#)* \n				Last Name (lowercase)*
URL:https://iowapipetradesandhvactraininginstitute.org/event/tube-bending-3/
LOCATION:Local 33 Union Hall\, 2501 Bell Avenue\, Des Moines\, IA\, 50321\, United States
CATEGORIES:CEU Classes
GEO:41.562808;-93.654415
X-APPLE-STRUCTURED-LOCATION;VALUE=URI;X-ADDRESS=Local 33 Union Hall 2501 Bell Avenue Des Moines IA 50321 United States;X-APPLE-RADIUS=500;X-TITLE=2501 Bell Avenue:geo:-93.654415,41.562808
END:VEVENT
BEGIN:VEVENT
DTSTART;TZID=America/Chicago:20241120T170000
DTEND;TZID=America/Chicago:20241120T210000
DTSTAMP:20260422T084316
CREATED:20241001T221557Z
LAST-MODIFIED:20241001T221557Z
UID:10000102-1732122000-1732136400@iowapipetradesandhvactraininginstitute.org
SUMMARY:Industrial Rigging Update
DESCRIPTION:Register for this class \n				UA Card Number (include two zeros at the front of your card#)* \n				Last Name (lowercase)*
URL:https://iowapipetradesandhvactraininginstitute.org/event/industrial-rigging-update-2/
LOCATION:Local 33 Union Hall\, 2501 Bell Avenue\, Des Moines\, IA\, 50321\, United States
CATEGORIES:CEU Classes
GEO:41.562808;-93.654415
X-APPLE-STRUCTURED-LOCATION;VALUE=URI;X-ADDRESS=Local 33 Union Hall 2501 Bell Avenue Des Moines IA 50321 United States;X-APPLE-RADIUS=500;X-TITLE=2501 Bell Avenue:geo:-93.654415,41.562808
END:VEVENT
BEGIN:VEVENT
DTSTART;TZID=America/Chicago:20241119T170000
DTEND;TZID=America/Chicago:20241119T210000
DTSTAMP:20260422T084316
CREATED:20241001T221557Z
LAST-MODIFIED:20241001T221557Z
UID:10000101-1732035600-1732050000@iowapipetradesandhvactraininginstitute.org
SUMMARY:5 Hr Backflow Update
DESCRIPTION:Register for this class \n				UA Card Number (include two zeros at the front of your card#)* \n				Last Name (lowercase)*
URL:https://iowapipetradesandhvactraininginstitute.org/event/5-hr-backflow-update-3/
LOCATION:Local 33 Union Hall\, 2501 Bell Avenue\, Des Moines\, IA\, 50321\, United States
CATEGORIES:CEU Classes
GEO:41.562808;-93.654415
X-APPLE-STRUCTURED-LOCATION;VALUE=URI;X-ADDRESS=Local 33 Union Hall 2501 Bell Avenue Des Moines IA 50321 United States;X-APPLE-RADIUS=500;X-TITLE=2501 Bell Avenue:geo:-93.654415,41.562808
END:VEVENT
BEGIN:VEVENT
DTSTART;VALUE=DATE:20241119
DTEND;VALUE=DATE:20241123
DTSTAMP:20260422T084316
CREATED:20241001T221557Z
LAST-MODIFIED:20241001T221557Z
UID:10000100-1731974400-1732319999@iowapipetradesandhvactraininginstitute.org
SUMMARY:Apprenticeship School Rotation - Group 4
DESCRIPTION:
URL:https://iowapipetradesandhvactraininginstitute.org/event/apprenticeship-school-rotation-group-4-6/
LOCATION:Local 33 Union Hall\, 2501 Bell Avenue\, Des Moines\, IA\, 50321\, United States
CATEGORIES:Apprenticeship School Rotation
GEO:41.562808;-93.654415
X-APPLE-STRUCTURED-LOCATION;VALUE=URI;X-ADDRESS=Local 33 Union Hall 2501 Bell Avenue Des Moines IA 50321 United States;X-APPLE-RADIUS=500;X-TITLE=2501 Bell Avenue:geo:-93.654415,41.562808
END:VEVENT
BEGIN:VEVENT
DTSTART;TZID=America/Chicago:20241113T170000
DTEND;TZID=America/Chicago:20241113T210000
DTSTAMP:20260422T084316
CREATED:20241001T221556Z
LAST-MODIFIED:20241001T221556Z
UID:10000098-1731517200-1731531600@iowapipetradesandhvactraininginstitute.org
SUMMARY:Weld Certification
DESCRIPTION:Register for this class \n				UA Card Number (include two zeros at the front of your card#)* \n				Last Name (lowercase)*
URL:https://iowapipetradesandhvactraininginstitute.org/event/weld-certification-4/
LOCATION:Local 33 Union Hall\, 2501 Bell Avenue\, Des Moines\, IA\, 50321\, United States
CATEGORIES:CEU Classes
GEO:41.562808;-93.654415
X-APPLE-STRUCTURED-LOCATION;VALUE=URI;X-ADDRESS=Local 33 Union Hall 2501 Bell Avenue Des Moines IA 50321 United States;X-APPLE-RADIUS=500;X-TITLE=2501 Bell Avenue:geo:-93.654415,41.562808
END:VEVENT
BEGIN:VEVENT
DTSTART;VALUE=DATE:20241112
DTEND;VALUE=DATE:20241116
DTSTAMP:20260422T084316
CREATED:20241001T221557Z
LAST-MODIFIED:20241001T221557Z
UID:10000099-1731369600-1731715199@iowapipetradesandhvactraininginstitute.org
SUMMARY:Apprenticeship School Rotation - Group 3
DESCRIPTION:
URL:https://iowapipetradesandhvactraininginstitute.org/event/apprenticeship-school-rotation-group-3-4/
LOCATION:Local 33 Union Hall\, 2501 Bell Avenue\, Des Moines\, IA\, 50321\, United States
CATEGORIES:Apprenticeship School Rotation
GEO:41.562808;-93.654415
X-APPLE-STRUCTURED-LOCATION;VALUE=URI;X-ADDRESS=Local 33 Union Hall 2501 Bell Avenue Des Moines IA 50321 United States;X-APPLE-RADIUS=500;X-TITLE=2501 Bell Avenue:geo:-93.654415,41.562808
END:VEVENT
BEGIN:VEVENT
DTSTART;TZID=America/Chicago:20241111T120000
DTEND;TZID=America/Chicago:20241111T130000
DTSTAMP:20260422T084316
CREATED:20241001T221556Z
LAST-MODIFIED:20241001T221556Z
UID:10000097-1731326400-1731330000@iowapipetradesandhvactraininginstitute.org
SUMMARY:Retiree Luncheon
DESCRIPTION:
URL:https://iowapipetradesandhvactraininginstitute.org/event/retiree-luncheon-8/
LOCATION:Local 33 Union Hall\, 2501 Bell Avenue\, Des Moines\, IA\, 50321\, United States
CATEGORIES:Retiree Luncheon
GEO:41.562808;-93.654415
X-APPLE-STRUCTURED-LOCATION;VALUE=URI;X-ADDRESS=Local 33 Union Hall 2501 Bell Avenue Des Moines IA 50321 United States;X-APPLE-RADIUS=500;X-TITLE=2501 Bell Avenue:geo:-93.654415,41.562808
END:VEVENT
BEGIN:VEVENT
DTSTART;TZID=America/Chicago:20241106T183000
DTEND;TZID=America/Chicago:20241106T193000
DTSTAMP:20260422T084316
CREATED:20241001T221556Z
LAST-MODIFIED:20241001T221556Z
UID:10000096-1730917800-1730921400@iowapipetradesandhvactraininginstitute.org
SUMMARY:Union Meeting
DESCRIPTION:
URL:https://iowapipetradesandhvactraininginstitute.org/event/union-meeting-7/
LOCATION:Local 33 Union Hall\, 2501 Bell Avenue\, Des Moines\, IA\, 50321\, United States
CATEGORIES:Union Meetings
GEO:41.562808;-93.654415
X-APPLE-STRUCTURED-LOCATION;VALUE=URI;X-ADDRESS=Local 33 Union Hall 2501 Bell Avenue Des Moines IA 50321 United States;X-APPLE-RADIUS=500;X-TITLE=2501 Bell Avenue:geo:-93.654415,41.562808
END:VEVENT
BEGIN:VEVENT
DTSTART;VALUE=DATE:20241105
DTEND;VALUE=DATE:20241109
DTSTAMP:20260422T084316
CREATED:20241001T221556Z
LAST-MODIFIED:20241001T221556Z
UID:10000095-1730764800-1731110399@iowapipetradesandhvactraininginstitute.org
SUMMARY:Apprenticeship School Rotation - Group 2
DESCRIPTION:
URL:https://iowapipetradesandhvactraininginstitute.org/event/apprenticeship-school-rotation-group-2-4/
LOCATION:Local 33 Union Hall\, 2501 Bell Avenue\, Des Moines\, IA\, 50321\, United States
CATEGORIES:Apprenticeship School Rotation
GEO:41.562808;-93.654415
X-APPLE-STRUCTURED-LOCATION;VALUE=URI;X-ADDRESS=Local 33 Union Hall 2501 Bell Avenue Des Moines IA 50321 United States;X-APPLE-RADIUS=500;X-TITLE=2501 Bell Avenue:geo:-93.654415,41.562808
END:VEVENT
BEGIN:VEVENT
DTSTART;TZID=America/Chicago:20241029T170000
DTEND;TZID=America/Chicago:20241029T210000
DTSTAMP:20260422T084316
CREATED:20241001T221556Z
LAST-MODIFIED:20241001T221556Z
UID:10000094-1730221200-1730235600@iowapipetradesandhvactraininginstitute.org
SUMMARY:Low GWP Refrigeration Update
DESCRIPTION:Register for this class \n				UA Card Number (include two zeros at the front of your card#)* \n				Last Name (lowercase)*
URL:https://iowapipetradesandhvactraininginstitute.org/event/low-gwp-refrigeration-update/
LOCATION:Local 33 Union Hall\, 2501 Bell Avenue\, Des Moines\, IA\, 50321\, United States
CATEGORIES:CEU Classes
GEO:41.562808;-93.654415
X-APPLE-STRUCTURED-LOCATION;VALUE=URI;X-ADDRESS=Local 33 Union Hall 2501 Bell Avenue Des Moines IA 50321 United States;X-APPLE-RADIUS=500;X-TITLE=2501 Bell Avenue:geo:-93.654415,41.562808
END:VEVENT
BEGIN:VEVENT
DTSTART;VALUE=DATE:20241029
DTEND;VALUE=DATE:20241102
DTSTAMP:20260422T084316
CREATED:20241001T221556Z
LAST-MODIFIED:20241001T221556Z
UID:10000093-1730160000-1730505599@iowapipetradesandhvactraininginstitute.org
SUMMARY:Apprenticeship School Rotation - Group 1
DESCRIPTION:
URL:https://iowapipetradesandhvactraininginstitute.org/event/apprenticeship-school-rotation-group-1-5/
LOCATION:Local 33 Union Hall\, 2501 Bell Avenue\, Des Moines\, IA\, 50321\, United States
CATEGORIES:Apprenticeship School Rotation
GEO:41.562808;-93.654415
X-APPLE-STRUCTURED-LOCATION;VALUE=URI;X-ADDRESS=Local 33 Union Hall 2501 Bell Avenue Des Moines IA 50321 United States;X-APPLE-RADIUS=500;X-TITLE=2501 Bell Avenue:geo:-93.654415,41.562808
END:VEVENT
BEGIN:VEVENT
DTSTART;TZID=America/Chicago:20241023T170000
DTEND;TZID=America/Chicago:20241023T210000
DTSTAMP:20260422T084316
CREATED:20241001T221555Z
LAST-MODIFIED:20241001T221555Z
UID:10000092-1729702800-1729717200@iowapipetradesandhvactraininginstitute.org
SUMMARY:Industrial Rigging Update
DESCRIPTION:Register for this class \n				UA Card Number (include two zeros at the front of your card#)* \n				Last Name (lowercase)*
URL:https://iowapipetradesandhvactraininginstitute.org/event/industrial-rigging-update/
LOCATION:Local 33 Union Hall\, 2501 Bell Avenue\, Des Moines\, IA\, 50321\, United States
CATEGORIES:CEU Classes
GEO:41.562808;-93.654415
X-APPLE-STRUCTURED-LOCATION;VALUE=URI;X-ADDRESS=Local 33 Union Hall 2501 Bell Avenue Des Moines IA 50321 United States;X-APPLE-RADIUS=500;X-TITLE=2501 Bell Avenue:geo:-93.654415,41.562808
END:VEVENT
BEGIN:VEVENT
DTSTART;VALUE=DATE:20241022
DTEND;VALUE=DATE:20241026
DTSTAMP:20260422T084316
CREATED:20241001T221555Z
LAST-MODIFIED:20241001T221555Z
UID:10000091-1729555200-1729900799@iowapipetradesandhvactraininginstitute.org
SUMMARY:Apprenticeship School Rotation - Group 7
DESCRIPTION:
URL:https://iowapipetradesandhvactraininginstitute.org/event/apprenticeship-school-rotation-group-7-5/
LOCATION:Local 33 Union Hall\, 2501 Bell Avenue\, Des Moines\, IA\, 50321\, United States
CATEGORIES:Apprenticeship School Rotation
GEO:41.562808;-93.654415
X-APPLE-STRUCTURED-LOCATION;VALUE=URI;X-ADDRESS=Local 33 Union Hall 2501 Bell Avenue Des Moines IA 50321 United States;X-APPLE-RADIUS=500;X-TITLE=2501 Bell Avenue:geo:-93.654415,41.562808
END:VEVENT
BEGIN:VEVENT
DTSTART;TZID=America/Chicago:20241016T170000
DTEND;TZID=America/Chicago:20241016T210000
DTSTAMP:20260422T084316
CREATED:20241001T221555Z
LAST-MODIFIED:20241001T223731Z
UID:10000090-1729098000-1729112400@iowapipetradesandhvactraininginstitute.org
SUMMARY:Weld Certification
DESCRIPTION:Register Here
URL:https://iowapipetradesandhvactraininginstitute.org/event/weld-certification-3/
LOCATION:Local 33 Union Hall\, 2501 Bell Avenue\, Des Moines\, IA\, 50321\, United States
CATEGORIES:CEU Classes
GEO:41.562808;-93.654415
X-APPLE-STRUCTURED-LOCATION;VALUE=URI;X-ADDRESS=Local 33 Union Hall 2501 Bell Avenue Des Moines IA 50321 United States;X-APPLE-RADIUS=500;X-TITLE=2501 Bell Avenue:geo:-93.654415,41.562808
END:VEVENT
BEGIN:VEVENT
DTSTART;VALUE=DATE:20241015
DTEND;VALUE=DATE:20241019
DTSTAMP:20260422T084316
CREATED:20241001T221555Z
LAST-MODIFIED:20241001T221555Z
UID:10000089-1728950400-1729295999@iowapipetradesandhvactraininginstitute.org
SUMMARY:Apprenticeship School Rotation - Group 6
DESCRIPTION:
URL:https://iowapipetradesandhvactraininginstitute.org/event/apprenticeship-school-rotation-group-6-6/
LOCATION:Local 33 Union Hall\, 2501 Bell Avenue\, Des Moines\, IA\, 50321\, United States
CATEGORIES:Apprenticeship School Rotation
GEO:41.562808;-93.654415
X-APPLE-STRUCTURED-LOCATION;VALUE=URI;X-ADDRESS=Local 33 Union Hall 2501 Bell Avenue Des Moines IA 50321 United States;X-APPLE-RADIUS=500;X-TITLE=2501 Bell Avenue:geo:-93.654415,41.562808
END:VEVENT
END:VCALENDAR